Workbook

Sheet Jólamótið
A1: Jólamótið
A2: KVK
A3: Þyndarflokkur | B3: LFR | C3: LFG | D3: LFK | E3: UMFN | F3: LFH | G3: Hengill | H3: Ármann
A4: 48 | B4: 5 | D4: 7 | I4: =SUM(B4:H4) -> 12
A5: 53 | C5: =7+5 -> 12 | D5: =4+3 -> 7 | I5: =SUM(B5:H5) -> 19
A6: 58 | C6: =5+4 -> 9 | E6: 7 | F6: 3 | I6: =SUM(B6:H6) -> 19
A7: 63 | B7: =7+5 -> 12 | D7: =4+3 -> 7 | G7: 2 | I7: =SUM(B7:H7) -> 21
A8: 69 | B8: =3+1 -> 4 | C8: 7 | E8: 5 | G8: =4+2 -> 6 | I8: =SUM(B8:H8) -> 22
A9: 75 | F9: =5 -> 5 | H9: 7 | I9: =SUM(B9:H9) -> 12
A10: 90 | C10: 7 | I10: =SUM(B10:H10) -> 7
A11: Samtals | B11: =SUM(B4:B10) -> 21 | C11: =SUM(C4:C10) -> 35 | D11: =SUM(D4:D8) -> 21 | E11: =SUM(E5:E9) -> 12 | F11: =SUM(F5:F10) -> 8 | G11: =SUM(G6:G8) -> 8 | H11: =SUM(H4:H10) -> 7 | I11: =SUM(B11:H11) -> 112 | J11: =SUM(B11:H11) -> 112
A14: KK
A15: Þyndarflokkur | B15: LFR | C15: LFG | D15: LFK | E15: UMFN | F15: LFH | G15: Hengill | H15: Ármann | I15: LFM | J15: KFA | K15: LFA | L15: Sindri
A16: 56 | C16: =7+5 -> 12 | M16: =SUM(B16:K16) -> 12
A17: 62 | B17: =5 -> 5 | G17: =7 -> 7 | M17: =SUM(B17:K17) -> 12
A18: 69 | F18: =7 -> 7 | H18: =5 -> 5 | M18: =SUM(B18:K18) -> 12
A19: 77 | B19: =7+5 -> 12 | M19: =SUM(B19:K19) -> 12
A20: 85 | B20: =3 -> 3 | C20: =7+5 -> 12 | D20: =4 -> 4 | M20: =SUM(B20:K20) -> 19
A21: 94 | B21: 4 | C21: =5+3 -> 8 | D21: =7 -> 7 | G21: 2 | M21: =SUM(B21:K21) -> 21
A22: 105 | B22: 5 | C22: 7 | I22: 4 | L22: 3 | M22: =SUM(B22:K22) -> 16
A23: (+105) | H23: 7 | M23: =SUM(B23:K23) -> 7
A24: Samtals | B24: =SUM(B16:B23) -> 29 | C24: =SUM(C16:C23) -> 39 | D24: =SUM(D16:D23) -> 11 | E24: =SUM(E18:E22) -> 0 | F24: =SUM(F16:F23) -> 7 | G24: =SUM(G16:G23) -> 9 | H24: =SUM(H16:H23) -> 12 | I24: =SUM(I16:I23) -> 4 | J24: =SUM(J16:J23) -> 0 | K24: =SUM(K16:K23) -> 0 | L24: =SUM(L16:L23) -> 3 | M24: =SUM(M16:M23) -> 111
A26: Total
A27: LFR | B27: =B11+B24 -> 50
A28: LFG | B28: =C11+C24 -> 74
A29: LFK | B29: =D11+D24 -> 32
A30: UMFN | B30: =E11+E24 -> 12
A31: LFH | B31: =F11+F24 -> 15
A32: Hengill | B32: =G11+G24 -> 17
A33: Ármann | B33: =H11+H24 -> 19
A34: LFM | B34: =I24 -> 4
A35: KFA | B35: =J24 -> 0
A36: LFA | B36: =K24 -> 0
A37: Sindri | B37: =L24 -> 3

Sheet Sumarmótið
A1: Sumarmótið
A2: KVK
A3: Þyndarflokkur | B3: LFR | C3: LFG | D3: LFK | E3: UMFN | F3: LFH | G3: Hengill | H3: Ármann | I3: LFM
A4: 48 | J4: =SUM(B4:H4) -> 0
A5: 53 | F5: 7 | J5: =SUM(B5:H5) -> 7
A6: 58 | I6: 7 | J6: =SUM(B6:I6) -> 7
A7: 63 | B7: =3+2 -> 5 | C7: 4 | D7: 5 | E7: 7 | J7: =SUM(B7:H7) -> 21
A8: 69 | C8: =7+5 -> 12 | D8: 3 | F8: 2 | G8: =4 -> 4 | J8: =SUM(B8:H8) -> 21
A9: 75 | D9: 5 | F9: 7 | J9: =SUM(B9:H9) -> 12
A10: 90 | C10: 7 | J10: =SUM(B10:H10) -> 7
A11: Samtals | B11: =SUM(B4:B10) -> 5 | C11: =SUM(C4:C10) -> 23 | D11: =SUM(D4:D10) -> 13 | E11: =SUM(E5:E9) -> 7 | F11: =SUM(F5:F10) -> 16 | G11: =SUM(G6:G8) -> 4 | H11: =SUM(H4:H10) -> 0 | I11: =SUM(I4:I10) -> 7 | J11: =SUM(J4:J10) -> 75 | K11: =SUM(B11:I11) -> 75
A14: Sumarmótið
A15: KK
A16: Þyndarflokkur | B16: LFR | C16: LFG | D16: LFK | E16: UMFN | F16: LFH | G16: Hengill | H16: Ármann | I16: LFM | J16: KFA
A17: 56 | B17: 7 | K17: =SUM(B17:J17) -> 7
A18: 69 | B18: =7+3 -> 10 | F18: =5+4 -> 9 | K18: =SUM(B18:J18) -> 19
A19: 77 | B19: =7+4 -> 11 | C19: =5+2 -> 7 | F19: =3+1 -> 4 | K19: =SUM(B19:J19) -> 22
A20: 85 | E20: =7+3 -> 10 | F20: =5+4 -> 9 | K20: =SUM(B20:J20) -> 19
A21: 94 | C21: 7 | F21: 5 | K21: =SUM(B21:J21) -> 12
A22: 105 | B22: 5 | D22: 7 | K22: =SUM(B22:J22) -> 12
A23: (+105) | H23: 5 | J23: 7 | K23: =SUM(B23:J23) -> 12
A24: Samtals | B24: =SUM(B17:B23) -> 33 | C24: =SUM(C17:C23) -> 14 | D24: =SUM(D17:D23) -> 7 | E24: =SUM(E18:E22) -> 10 | F24: =SUM(F18:F23) -> 27 | G24: =SUM(G19:G21) -> 0 | H24: =SUM(H17:H23) -> 5 | I24: =SUM(I17:I23) -> 0 | J24: =SUM(J17:J23) -> 7 | K24: =SUM(B24:J24) -> 103 | L24: =SUM(B24:J24) -> 103
A26: Total
A27: LFR | B27: =B24+B11 -> 38
A28: LFG | B28: =C11+C24 -> 37
A29: LFK | B29: =D11+D24 -> 20
A30: UMFN | B30: =E11+E24 -> 17
A31: LFH | B31: =F11+F24 -> 43
A32: Hengill | B32: =G11+G24 -> 4
A33: Ármann | B33: =H11+H24 -> 5
A34: LFM | B34: =I11+I24 -> 7
A35: KFA | B35: =J24 -> 7

Sheet Haustmótið
A1: Haustmótið
A2: KVK
A3: Þyndarflokkur | B3: LFR | C3: LFG | D3: LFK | E3: UMFN | F3: LFH | G3: Hengill | H3: Ármann | I3: LFM
A4: 48 | J4: =SUM(B4:H4) -> 0
A5: 53 | D5: =7+4 -> 11 | F5: 5 | J5: =SUM(B5:H5) -> 16
A6: 58 | C6: 7 | J6: =SUM(B6:I6) -> 7
A7: 63 | B7: =4+3 -> 7 | E7: 7 | G7: 5 | J7: =SUM(B7:H7) -> 19
A8: 69 | C8: 5 | D8: =3+2 -> 5 | E8: 4 | G8: 7 | J8: =SUM(B8:H8) -> 21
A9: 75 | G9: 7 | J9: =SUM(B9:H9) -> 7
A10: 90 | B10: 7 | C10: 5 | G10: 4 | J10: =SUM(B10:H10) -> 16
A11: Samtals | B11: =SUM(B4:B10) -> 14 | C11: =SUM(C4:C10) -> 17 | D11: =SUM(D4:D10) -> 16 | E11: =SUM(E5:E9) -> 11 | F11: =SUM(F5:F10) -> 5 | G11: =SUM(G6:G10) -> 23 | H11: =SUM(H4:H10) -> 0 | I11: =SUM(I4:I10) -> 0 | J11: =SUM(J4:J10) -> 86 | K11: =SUM(B11:I11) -> 86
A14: Haustmótið
A15: KK
A16: Þyndarflokkur | B16: LFR | C16: LFG | D16: LFK | E16: UMFN | F16: LFH | G16: Hengill | H16: Ármann | I16: LFM | J16: KFA | K16: LFA
A17: 56 | B17: 7 | L17: =SUM(B17:K17) -> 7
A18: 62 | G18: =7+5 -> 12 | L18: =SUM(B18:K18) -> 12
A19: 69 | F19: 7 | L19: =SUM(B19:K19) -> 7
A20: 77 | F20: 5 | K20: 7 | L20: =SUM(B20:K20) -> 12
A21: 85 | C21: =7+3 -> 10 | F21: =5+4 -> 9 | L21: =SUM(B21:K21) -> 19
A22: 94 | D22: 7 | L22: =SUM(B22:K22) -> 7
A23: 105 | B23: 7 | L23: =SUM(B23:K23) -> 7
A24: (+105) | L24: =SUM(B24:K24) -> 0
A25: Samtals | B25: =SUM(B17:B24) -> 14 | C25: =SUM(C17:C24) -> 10 | D25: =SUM(D17:D24) -> 7 | E25: =SUM(E19:E23) -> 0 | F25: =SUM(F17:F24) -> 21 | G25: =SUM(G17:G24) -> 12 | H25: =SUM(H17:H24) -> 0 | I25: =SUM(I17:I24) -> 0 | J25: =SUM(J17:J24) -> 0 | K25: =SUM(K17:K24) -> 7 | L25: =SUM(L17:L24) -> 71 | M25: =SUM(B25:K25) -> 71
A27: Total
A28: LFR | B28: =B25+B11 -> 28
A29: LFG | B29: =C11+C25 -> 27
A30: LFK | B30: =D11+D25 -> 23
A31: UMFN | B31: =E11+E25 -> 11
A32: LFH | B32: =F11+F25 -> 26
A33: Hengill | B33: =G11+G25 -> 35
A34: Ármann | B34: =H11+H25 -> 0
A35: LFM | B35: =I11+I25 -> 0
A36: KFA | B36: =J25 -> 0
A37: LFA | B37: =SUM(K25) -> 7

Sheet TOTAL
A1: Total
A2: LFR | B2: =Jólamótið!B27+Sumarmótið!B27+Haustmótið!B28 -> 116
A3: LFG | B3: =Jólamótið!B28+Sumarmótið!B28+Haustmótið!B29 -> 138
A4: LFK | B4: =Jólamótið!B29+Sumarmótið!B29+Haustmótið!B30 -> 75
A5: UMFN | B5: =Jólamótið!B30+Sumarmótið!B30+Haustmótið!B31 -> 40
A6: LFH | B6: =Jólamótið!B31+Sumarmótið!B30+Haustmótið!B32 -> 58
A7: Hengill | B7: =Jólamótið!B32+Sumarmótið!B32+Haustmótið!B33 -> 56
A8: Ármann | B8: =Jólamótið!B33+Sumarmótið!B33+Haustmótið!B34 -> 24
A9: LFM | B9: =Jólamótið!B34+Sumarmótið!B34+Haustmótið!B35 -> 11
A10: KFA | B10: =Jólamótið!B35+Sumarmótið!B35+Haustmótið!B36 -> 7
A11: LFA | B11: =Haustmótið!B37 -> 7
A12: Sindri | B12: =Jólamótið!L24 -> 3
